BEGIN:VCALENDAR
VERSION:2.0
PRODID:-//Rustjeva hiša kruha - ECPv6.15.20//NONSGML v1.0//EN
CALSCALE:GREGORIAN
METHOD:PUBLISH
X-WR-CALNAME:Rustjeva hiša kruha
X-ORIGINAL-URL:https://rustjevahisa.si
X-WR-CALDESC:Events for Rustjeva hiša kruha
REFRESH-INTERVAL;VALUE=DURATION:PT1H
X-Robots-Tag:noindex
X-PUBLISHED-TTL:PT1H
BEGIN:VTIMEZONE
TZID:UTC
BEGIN:STANDARD
TZOFFSETFROM:+0000
TZOFFSETTO:+0000
TZNAME:UTC
DTSTART:20230101T000000
END:STANDARD
END:VTIMEZONE
BEGIN:VEVENT
DTSTART;TZID=UTC:20241217T190000
DTEND;TZID=UTC:20241217T203000
DTSTAMP:20260421T033427
CREATED:20241127T075838Z
LAST-MODIFIED:20241202T075230Z
UID:25094637-1734462000-1734467400@rustjevahisa.si
SUMMARY:Vokalni večer: Erika Kralj\, Mihela Slejko in Tadej Pišot
DESCRIPTION:Vokalni večer z učenci iz Šole petja Tjaše Fajdiga. Nastopili bosta Erika Kralj in Mihela Slejko. \nTjaša Fajdiga je mlada\, temperamentna Primorka\, ki že od malih nog poje in pleše. Je magistra muzikalnega performansa ter diplomirana jazz pevka. Svoj talent je izpopolnila v Londonu na Kraljevi akademiji za glasbo (RoyalAcademy of Music\, kjer je študiral tudi Sir Elton John\, ki je še danes glavni podpornik in pokrovitelj akademije). Leta 2021 je tu tudi magistrirala. Tjaša Fajdiga je prva Slovenka\, ki je bila v zgodovini Akademije sprejeta v program muzikala in zaradi izjemnega talenta v celoti štipendirana s strani Akademije. \nPred odhodom v London je svoje znanje petja izpopolnjevala na Konservatoriju za glasbo v Amsterdamu v programu jazz petje\, poznamo pa jo tudi kot finalistko 7. sezone TV šova Slovenija ima talent iz leta 2018. \nTjaša trenutno deluje kot pevka\, performerka ter profesorica petja\, nastopanja in pravilnega dihanja. Najraje nastopa v svojih cabaret showih\, kjer s petjem in plesom izžareva prezenco karizmatične\, energične in neustavljive ženske\, ki šele na odru resnično zaživi.
URL:https://rustjevahisa.si/koledar-dogodkov/vokalni-vecer-erika-kralj-in-mihela-slejko/
END:VEVENT
BEGIN:VEVENT
DTSTART;TZID=UTC:20241215T090000
DTEND;TZID=UTC:20241215T110000
DTSTAMP:20260421T033427
CREATED:20240930T090100Z
LAST-MODIFIED:20241206T121226Z
UID:25094528-1734253200-1734260400@rustjevahisa.si
SUMMARY:OTROŠKE DELAVNICE
DESCRIPTION:Od 9h do 11h – OTROŠKE DELAVNICE – velja za vse nedelje do konca leta
URL:https://rustjevahisa.si/koledar-dogodkov/otroske-delavnice-2/
ATTACH;FMTTYPE=image/jpeg:https://rustjevahisa.si/wp-content/uploads/2024/11/Kopija-dokumenta-T_V_3028-1-1.jpeg
END:VEVENT
BEGIN:VEVENT
DTSTART;TZID=UTC:20241214T190000
DTEND;TZID=UTC:20241214T210000
DTSTAMP:20260421T033427
CREATED:20241127T083816Z
LAST-MODIFIED:20241127T083816Z
UID:25094648-1734202800-1734210000@rustjevahisa.si
SUMMARY:Ladies' night\, 30\,00€
DESCRIPTION:Razvajalivas bomo z mehurčki različnih vrst penine (tudi z rosé peninom in petnatom) ter gurmanskimi prigrizki\, kot jenamaz iz tartufov in orehi ali humus s pistacijo. Poskrbeli bomo tudi za dobro glasbo! \nCena: 30 eur na osebo \nGlasba: Žan Likar \nIzbrane penine:\nHišna penina zelen – Vipava\,\nBjana brut rose\nŠtokelj penina pinela brut\nFedora petnat\nFedora penina \nKruhi in prigrizki\nBakala namaz\nOstrige\nNamaz tartufa in oreha\nHumus- pistacija\nVratovina- grenivka \nŽan Likar je mlad glasbenik na začetku svoje ustvarjalne poti.Njegovo glasbeno raziskovanje zajema pestro paleto žanrov – od nostalgičnihmelodij jugo rocka in živahnega countryja do priljubljenih pop uspešnic domačein tuje glasbene scene. Žan se izraža skozi akustične izvedbe\, s katerimiposlušalcem ponudi edinstveno glasbeno doživetje. Poleg preigravanja znanihmelodij pa v njegovem repertoarju najdete tudi avtorske skladbe\, ki odražajonjegovo osebno noto in glasbeni navdih. \nOpisi vinskih hiš in penin: \nBJANA \nBjana je narečno ime za vas Biljana. Zgodba vinske hišeBjana se je pričela pred več kot tridesetimi leti. Dvorec Dorišče v kateriprebiva družina Sirk je bil pred leti popolnoma obnovljen\, kjer se jespoštovalo tradicijo in zgodovinska dejstva\, ki sežejo v trinajsto stoletje. Narobu vasi pa je sedaj nova moderna vinska klet Bjana\, ki je posvečena vsemključnim fazam v pridelavi penečih se vin. Vse penine Bjana so suhe in pridelane po klasični ali šampanjski metodi. \nBjanina vina v zadnjih letih zmagujejo na mednarodnihtekmovanjih kjer posegajo po najvišjih odličjih (Decanter\, London) 9\,5ha vinogradov. \nBJANA ROSE\, BRUT NELETNIŠKA\,zelo suho (7g/L)\, skupnekisline 7\,5 g/L 12\,5% vol alk \nOsnova za Bjano rose je modri pinot in chardonnay.Prevladuje modri pinot\, ki prispeva karakter in aromatičnost\, chardonnay paeleganco in svežino. Vino je zorelo na kvasovkah najmanj 18 mesecev. \nRose ponudimo kot aperitiv ali kot spremljavo k hrani.Odličen v kombinaciji z ribjimi jedmi\, kot so tuna\, losos ali z belim mesom\,belimi rižotami. Z rosejem lahko zaključimo tudi obed s sladico na osnovirdečega sadja. Brut rose je z nižjo sladkorno stopnjo (6g/l) in spada mednajbolje prodajne penine pod blagovno znamko Bjana in velja za referenčni rosemed vinarji in gostinci. \nŠTOKELJ PENINA BRUT\nNežne zlatorumene barve. Penjenje je zmerno\, umirjeno. Cvetica kaže jasno dozorelost – kruhova skorja\, brioši … Vonj sorte je povsem v ozadju. Daljše zorenje na kvasovkah je dalo jasen pečat. Zelo suho v ustih\, visokih kislin in lažjega telesa. Okus v ustih je jasen\, čist\, več je svežine in mladosti\, kot jo obeta cvetica – limona\, limeta. Kanček trpkosti ne prevlada nad zelo dobrim občutkom ob pitju te aperitivne penine. \nFEDORA \nPet-Nat je okrajšava za francoski izraz petillant-naturelle\, metoda pridelave se imenuje tudi »methode ancestrale«. To je naravno peneče vino\, ki ga napolnimo v steklenice\, še preden se konča prvo vrenje in tako omogočimo tvorjenje mehurčkov iz naravnih sladkorjev\, ki so prisotni v grozdju.
URL:https://rustjevahisa.si/koledar-dogodkov/ladies-night-3000e/
END:VEVENT
BEGIN:VEVENT
DTSTART;TZID=UTC:20241212T150000
DTEND;TZID=UTC:20241212T170000
DTSTAMP:20260421T033427
CREATED:20240930T085215Z
LAST-MODIFIED:20241127T075714Z
UID:25094520-1734015600-1734022800@rustjevahisa.si
SUMMARY:AFTER WORK -20%
DESCRIPTION:AFTER WORK od 15.00. do 17.00 ure\,  –20 % na pivo in vino – velja za vse četrtke do konca leta.
URL:https://rustjevahisa.si/koledar-dogodkov/after-work-20-4/
ATTACH;FMTTYPE=image/jpeg:https://rustjevahisa.si/wp-content/uploads/2024/08/RHK-30.jpg
END:VEVENT
BEGIN:VEVENT
DTSTART;TZID=UTC:20241210T190000
DTEND;TZID=UTC:20241210T203000
DTSTAMP:20260421T033427
CREATED:20241127T075551Z
LAST-MODIFIED:20241127T075551Z
UID:25094635-1733857200-1733862600@rustjevahisa.si
SUMMARY:Vokalni večer: Maša in Kaja Zorn\, Nicol Lavrenčič\, Anisa Jelerčič in Olivia Lah
DESCRIPTION:Vokalni večer z učenci iz Šole petja Tjaše Fajdiga. Nastopili bodo najmlajši pevci: Maša in Kaja Zorn\, NicolLavrenčič\, Anisa Jelerčič in Olivia Lah\nTjaša Fajdiga je mlada\, temperamentna Primorka\, ki že od malihnog poje in pleše. Je magistra muzikalnega performansa ter diplomirana jazz pevka.Svoj talent je izpopolnila v Londonu na Kraljevi akademiji za glasbo (RoyalAcademy of Music\, kjer je študiral tudi Sir Elton John\, ki je še danesglavni podpornik in pokrovitelj akademije). Leta 2021 je tu tudi magistrirala. TjašaFajdiga je prva Slovenka\, ki jebila v zgodovini Akademije sprejeta v program muzikala in zaradi izjemnega talenta v celoti štipendirana s strani akademije. \nPred odhodom v London je svoje znanje petja izpopolnjevalana Konservatoriju za glasbo v Amsterdamu v programu jazzpetje\, poznamo pa jo tudi kot finalistko 7. sezone televizijskega šova Slovenijaima talent iz leta 2018. \nTjaša trenutno deluje kot pevka\, performerka terprofesorica petja\, nastopanja in pravilnega dihanja. Najraje nastopa vsvojih cabaret showih\, kjer s petjem in plesom izžareva prezenco karizmatične\,energične in neustavljive ženske\, ki šele na odru resnično zaživi.
URL:https://rustjevahisa.si/koledar-dogodkov/vokalni-vecer-masa-in-kaja-zorn-nicol-lavrencic-anisa-jelercic-in-olivia-lah/
END:VEVENT
BEGIN:VEVENT
DTSTART;TZID=UTC:20241208T090000
DTEND;TZID=UTC:20241208T110000
DTSTAMP:20260421T033427
CREATED:20240930T090130Z
LAST-MODIFIED:20241206T121315Z
UID:25094530-1733648400-1733655600@rustjevahisa.si
SUMMARY:OTROŠKE DELAVNICE
DESCRIPTION:od 9h do 11h – OTROŠKE DELAVNICE – velja za vse nedelje do konca leta
URL:https://rustjevahisa.si/koledar-dogodkov/otroske-delavnice-3/
ATTACH;FMTTYPE=image/jpeg:https://rustjevahisa.si/wp-content/uploads/2024/11/Kopija-dokumenta-T_V_3028-1-1.jpeg
END:VEVENT
BEGIN:VEVENT
DTSTART;TZID=UTC:20241207T180000
DTEND;TZID=UTC:20241207T200000
DTSTAMP:20260421T033427
CREATED:20241127T075311Z
LAST-MODIFIED:20241206T120645Z
UID:25094633-1733594400-1733601600@rustjevahisa.si
SUMMARY:Whiskey degustacija\, Cena 35 eur
DESCRIPTION:Vodena degustacija izbranih viskijev bo prava avantura za vse ljubitelje te pijače! Za družbo jim bomo pripravili najbolj ekstravagantne prigrizke kot so ocvrta tapioka z marinirano rdečo peso\, dimljen losos s hrenovo kremo in krompirjevim čipsom ali račjo pašteto. Za udeležbo so nujne pred prijave na info@rustjevahisa.si ali osebno v Rustjevi hiši kruha do zapolnitve mest (max. 15 oseb).  \nCena – 35 eur \nProsimo\, da pridete pravočasno\, pričetek ob 18.00 uri! \nIzbor viskijev \n\nWoodford (ZDA)\nGentleman Jack (ZDA)\nSingle barrel Jack Daniels (ZDA)\n⁠Benriach (Škotska)\nGlendronach (Škotska)\n\n  \nPrigrizki:\nOcvrta tapioka\, marinirana rdeča pesa\nOcvrta mocarela\, krema iz jogurta in gorčice\nParmezanove lučke s tartufi\nRačja pašteta in liofilizirane maline\nDimljen losos\, hrenova krema\, čips krompirja
URL:https://rustjevahisa.si/koledar-dogodkov/whiskey-degustacija-cena-35-eur/
ATTACH;FMTTYPE=image/png:https://rustjevahisa.si/wp-content/uploads/2024/11/Kopija-dokumenta-viski-1-1.png
END:VEVENT
BEGIN:VEVENT
DTSTART;TZID=UTC:20241205T150000
DTEND;TZID=UTC:20241205T170000
DTSTAMP:20260421T033427
CREATED:20241111T084637Z
LAST-MODIFIED:20241127T075139Z
UID:25094605-1733410800-1733418000@rustjevahisa.si
SUMMARY:Afterwork -20 %
DESCRIPTION:Četrtek\, 21. november\, 15-17h: Afterwork -20 % na pivo in vino\, ob pijači postrežemo prigrizek.
URL:https://rustjevahisa.si/koledar-dogodkov/afterwork-20/
ATTACH;FMTTYPE=image/jpeg:https://rustjevahisa.si/wp-content/uploads/2024/11/rhk-izvoz-2-25-1-1.jpg
END:VEVENT
BEGIN:VEVENT
DTSTART;TZID=UTC:20241203T190000
DTEND;TZID=UTC:20241203T200000
DTSTAMP:20260421T033427
CREATED:20241127T075040Z
LAST-MODIFIED:20241203T131812Z
UID:25094631-1733252400-1733256000@rustjevahisa.si
SUMMARY:Ta veseli dan kulture v Rustjevi hiši kruha
DESCRIPTION:Ilustratorka Ana Maraž v pogovoru s Petrom Avbarjem \nNa Prešernov rojstni dan bomo v Rustjevi hiši kruha gostiliilustratorko Ano Maraž\, z njo pa se bo pogovarjal Peter Avbar. \nAna Maraž je ilustratorka z močno stiliziranimiilustracijami\, prepoznavnim minimalističnim in ploskovitim slogom. Njenenagrajene ilustracije so bile objavljene v številnih knjigah in so prejemniceštevilnih nagrad: na 11. slovenskem bienalu je prejela Priznanje HinkaSmrekarja; na Ilustrofestu v Beogradu nagrado za najboljšo ilustracijo vkategoriji knjižne ilustracije ter znak kakovosti Zlata hruška. Njeneilustracije so bile uvrščene tudi na Golden Pinwheel v Šanghaju… Zailustracije iz knjige Protideževnajuha sta skupaj z avtorico knjige MajdoKoren prejeli Nagrado Kristine Brenkove za izvirno slovensko slikanico\, znakkakovosti Zlata hruška\, ter oktobra postali Ime tedna na Valu 202. \nPeter Avbar je učitelj slovenščine na osnovni šoli Danila Lokarja\, gledališki ustvarjalec\, soavtor in avtor šolskih gradiv\, kreator kulturnih in družabnih dogodkov v mestu\, občasno rekreativni tekač\, tudi hribolazec\, dvakrat spekel potico\, prvič v vlogi intervjuvarja s slovensko ilustratorko Ano Maraž
URL:https://rustjevahisa.si/koledar-dogodkov/ta-veseli-dan-kulture-v-rustjevi-hisi-kruha/
END:VEVENT
BEGIN:VEVENT
DTSTART;TZID=UTC:20241201T090000
DTEND;TZID=UTC:20241201T110000
DTSTAMP:20260421T033427
CREATED:20241129T074100Z
LAST-MODIFIED:20241129T074100Z
UID:25094654-1733043600-1733050800@rustjevahisa.si
SUMMARY:Otroške urice
DESCRIPTION:Vsako nedeljo od 9. do 11. ure vabimo starše in njihove otroke na otroške delavnice v Rustjevo hišo kruha. Otroci skupaj z animatorko ustvarjajo različne izdelke\, starši pa lahko medtem v miru popijejo kavico in se posladkajo s sladko žemljo.
URL:https://rustjevahisa.si/koledar-dogodkov/otroske-urice-2/
END:VEVENT
BEGIN:VEVENT
DTSTART;TZID=UTC:20241201T060000
DTEND;TZID=UTC:20241201T193000
DTSTAMP:20260421T033427
CREATED:20241129T073951Z
LAST-MODIFIED:20241129T073951Z
UID:25094652-1733032800-1733081400@rustjevahisa.si
SUMMARY:Vokalni večer z učenci iz Šole petja Tjaše Fajdiga. Nastopila bosta Luka Gobec in Lea Rožič.
DESCRIPTION:Tjaša Fajdiga je mlada\, temperamentna Primorka\, ki že od malih nog poje in pleše. Je magistra muzikalnega performansa ter diplomirana jazz pevka. Svoj talent je izpopolnila v Londonu na Kraljevi akademiji za glasbo (RoyalAcademy of Music\, kjer je študiral tudi Sir Elton John\, ki je še danes glavni podpornik in pokrovitelj akademije). Leta 2021 je tu tudi magistrirala. Tjaša Fajdiga je prva Slovenka\, ki je bila v zgodovini Akademije sprejeta v program muzikala in zaradi izjemnega talenta v celoti štipendirana s strani Akademije. \nPred odhodom v London je svoje znanje petja izpopolnjevala na Konservatoriju za glasbo v Amsterdamu v programu jazz petje\, poznamo pa jo tudi kot finalistko 7. sezone TV šova Slovenija ima talent iz leta 2018. \nTjaša trenutno deluje kot pevka\, performerka ter profesorica petja\, nastopanja in pravilnega dihanja. Najraje nastopa v svojih cabaret showih\, kjer s petjem in plesom izžareva prezenco karizmatične\, energične in neustavljive ženske\, ki šele na odru resnično zaživi.
URL:https://rustjevahisa.si/koledar-dogodkov/vokalni-vecer-z-ucenci-iz-sole-petja-tjase-fajdiga-nastopila-bosta-luka-gobec-in-lea-rozic/
END:VEVENT
BEGIN:VEVENT
DTSTART;TZID=UTC:20241129T200000
DTEND;TZID=UTC:20241129T220000
DTSTAMP:20260421T033427
CREATED:20241111T085306Z
LAST-MODIFIED:20241111T091201Z
UID:25094613-1732910400-1732917600@rustjevahisa.si
SUMMARY:Akustični večer\, nastopila bo Nina Kosovel
DESCRIPTION:Petek\, 29. november\, ob 20h: Akustični večer\, nastopila bo Nina Kosovel\, mlada pevka\, ki prihaja iz Črnič in je pred leti je nastopila v oddaji Slovenija ima talent. Na povabilo Tinkare Kovač\, Anike Horvat in skupine Avtomobili se je kot mladi primorski talent udeležila prve revije primorske popularne glasbe ob spremljavi simfoničnega orkestra RTV Slovenije z dirigentom Patrikom Greblom. Pri šestnajstih letih pa se je prijavila na tekmovanje En big bendišče svoj talent in postala absolutna zmagovalka projekta.
URL:https://rustjevahisa.si/koledar-dogodkov/akusticni-vecer-nastopila-bo-nina-kosovel/
ATTACH;FMTTYPE=image/jpeg:https://rustjevahisa.si/wp-content/uploads/2024/11/nina-kosovel.jpg
END:VEVENT
BEGIN:VEVENT
DTSTART;TZID=UTC:20241128T150000
DTEND;TZID=UTC:20241128T170000
DTSTAMP:20260421T033427
CREATED:20241111T084832Z
LAST-MODIFIED:20241111T092014Z
UID:25094611-1732806000-1732813200@rustjevahisa.si
SUMMARY:Afterwork -20 %
DESCRIPTION:Četrtek\, 28. november\, 15-17h: Afterwork -20 % na pivo in vino\, ob pijači postrežemo prigrizek.
URL:https://rustjevahisa.si/koledar-dogodkov/afterwork-20-2/
ATTACH;FMTTYPE=image/jpeg:https://rustjevahisa.si/wp-content/uploads/2024/11/rhk-izvoz-2-25-1-1.jpg
END:VEVENT
BEGIN:VEVENT
DTSTART;TZID=UTC:20241126T190000
DTEND;TZID=UTC:20241126T210000
DTSTAMP:20260421T033427
CREATED:20241111T084751Z
LAST-MODIFIED:20241127T074728Z
UID:25094609-1732647600-1732654800@rustjevahisa.si
SUMMARY:Vokalni večer z učenci iz Šole petja Tjaše Fajdiga
DESCRIPTION:Torek\, 26. november\, ob 19h: Vokalni večer z učenci iz Šole petja Tjaše Fajdiga. Nastopila bosta Jano Komac in Mia Erjavec. \nTjaša Fajdiga je mlada\, temperamentna Primorka\, ki že od malih nog poje in pleše. Je magistra muzikalnega performansa ter diplomirana jazz pevka. Svoj talent je izpopolnila v Londonu na Kraljevi akademiji za glasbo (RoyalAcademy of Music\, kjer je študiral tudi Sir Elton John\, ki je še danes glavni podpornik in pokrovitelj akademije). Leta 2021 je tu tudi magistrirala. Tjaša Fajdiga je prva Slovenka\, ki je bila v zgodovini Akademije sprejeta v program muzikala in zaradi izjemnega talenta v celoti štipendirana s strani Akademije. \nPred odhodom v London je svoje znanje petja izpopolnjevala na Konservatoriju za glasbo v Amsterdamu v programu jazz petje\, poznamo pa jo tudi kot finalistko 7. sezone TV šova Slovenija ima talent iz leta 2018. \nTjaša trenutno deluje kot pevka\, performerka ter profesorica petja\, nastopanja in pravilnega dihanja. Najraje nastopa v svojih cabaret showih\, kjer s petjem in plesom izžareva prezenco karizmatične\, energične in neustavljive ženske\, ki šele na odru resnično zaživi.
URL:https://rustjevahisa.si/koledar-dogodkov/vokalni-vecer-z-ucenci-iz-sole-petja-tjase-fajdiga/
END:VEVENT
BEGIN:VEVENT
DTSTART;TZID=UTC:20241124T090000
DTEND;TZID=UTC:20241124T110000
DTSTAMP:20260421T033427
CREATED:20241111T091037Z
LAST-MODIFIED:20241111T091037Z
UID:25094622-1732438800-1732446000@rustjevahisa.si
SUMMARY:Otroške delavnice. Vsako nedeljo dopoldan v Rustjevo hišo kruha vabljeni otroci na ustvarjalne delavnice.
DESCRIPTION:Nedelja\, 24. november\, 9-11h: Otroške delavnice. Vsako nedeljo dopoldan v Rustjevo hišo kruha vabljeni otroci na ustvarjalne delavnice.
URL:https://rustjevahisa.si/koledar-dogodkov/otroske-delavnice-vsako-nedeljo-dopoldan-v-rustjevo-hiso-kruha-vabljeni-otroci-na-ustvarjalne-delavnice-3/
END:VEVENT
BEGIN:VEVENT
DTSTART;TZID=UTC:20241120T190000
DTEND;TZID=UTC:20241120T210000
DTSTAMP:20260421T033427
CREATED:20241111T084318Z
LAST-MODIFIED:20241115T105627Z
UID:25094603-1732129200-1732136400@rustjevahisa.si
SUMMARY:Pogovorni večer »Najprej je pek\, potem je kralj …«: Spomini pekov iz Rustjeve pekarne
DESCRIPTION:Vabljeni 20. novembra 2024 ob 19. uri v Rustjevo hišo kruha. Prisluhnili bomo spominom pekov\, ki so si upokojitev prislužili s kruhom. Dolge noči in leta so v Parni pekarni Ajdovščina\, današnji Rustjevi hiši kruha\, gnetli in pekli ajdovske žemljice\, ajdovsko belo in druge krušne izdelke. Pogovor bosta moderirali dr. Jasna Fakin Bajec in doc. dr. Melita Lemut Bajec.ž \nDatum in ura: 20. november\, ob 19h
URL:https://rustjevahisa.si/koledar-dogodkov/pogovorni-vecer-o-pekih-z-dr-jasno-fakin-bajec-znanstveno-sodelavko-na-zrc-sazu-nova-gorica/
ATTACH;FMTTYPE=image/webp:https://rustjevahisa.si/wp-content/uploads/2024/08/RHK2.webp
END:VEVENT
BEGIN:VEVENT
DTSTART;TZID=UTC:20241117T180000
DTEND;TZID=UTC:20241117T210000
DTSTAMP:20260421T033427
CREATED:20241111T084209Z
LAST-MODIFIED:20241111T084522Z
UID:25094599-1731866400-1731877200@rustjevahisa.si
SUMMARY:Vokalni večer z učenci iz Šole petja Tjaše Fajdiga. Nastopila bosta Danej Tavčar in Katarina Pirc.
DESCRIPTION:Nedelja\, 17. november\, ob 19h: Vokalni večer z učenci iz Šole petja Tjaše Fajdiga. Nastopila bosta Danej Tavčar in Katarina Pirc.
URL:https://rustjevahisa.si/koledar-dogodkov/vokalni-vecer-z-ucenci-iz-sole-petja-tjase-fajdiga-nastopila-bosta-danej-tavcar-in-katarina-pirc/
END:VEVENT
BEGIN:VEVENT
DTSTART;TZID=UTC:20241116T190000
DTEND;TZID=UTC:20241116T220000
DTSTAMP:20260421T033427
CREATED:20241111T083845Z
LAST-MODIFIED:20241115T104839Z
UID:25094589-1731783600-1731794400@rustjevahisa.si
SUMMARY:Kruh in Vino\, 25\,00 € – degustacija petih vrhunskih vin iz Posestva Ferjančič
DESCRIPTION:Sobota\, 16. november\, ob 19h: Kruh in Vino – degustacija petih vrhunskih vin iz Posestva Ferjančič. Vodeno degustacijo petih izbranih vin bo spremljal okusen in poseben kruh\, ki ga pečemo v Rustjevi hiši kruha: žemlje s pršutom\, žemlje z olivami in ciabatte s čebulo ter domače sušene mesnine Ilc in domačo Ferjančičevo frtaljo. Ne samo okusno\, tudi prijetno družabno in zabavno\, saj bo poskrbljeno tudi za glasbo v živo! \nZ nami bo lokalni glasbenik\, Žan Likar\, ki prihaja iz Vipave. Žan Likar je mlad glasbenik na začetku svoje ustvarjalne poti. Njegovo glasbeno raziskovanje zajema pestro paleto žanrov – od nostalgičnih melodij jugo rocka in živahnega countryja do priljubljenih pop uspešnic domače in tuje glasbene scene. Žan se izraža skozi akustične izvedbe\, s katerimi poslušalcem ponudi edinstveno glasbeno doživetje. Poleg preigravanja znanih melodij pa v njegovem repertoarju najdete tudi avtorske skladbe\, ki odražajo njegovo osebno noto in glasbeni navdih. \nCena na osebo: 25 €. \nPenina pinela brut nature \nPenino iz avtohtone pinele smo pridelali po klasični metodi\, tako kot to počnejo v Šampanji\, domovini penečih vin. Je sveža\, sadnih vonjev\, ki pa jih dopolnjuje vonj po kvasu zaradi 2 letnega zorenja na drožeh. Oznaka brut nature nam pove\, da je penina popolnoma suha\, brez ostanka sladkorja. \nPinela \nPlaninska ljubljenka. Matija Vertovec jo v svoji knjigi Vinoreja za Slovence\, že leta 1844 omenja med žlahtnimi sortami. Vino se ponaša z živahnim rumeno-zelenim odtenkom in izžareva značilno cvetlično aromo s pridihom citrusov in suhega cvetja. Okus je obdelan z nežnim\, a bogatim okusom\, nežno uravnoteženim in osvežujoče hrustljavim. Pinela je edinstveno in cenjeno vino\, ki ga cenijo tisti\, ki cenijo umetnost in znanost vinarstva. \nZelen Domen \nzelen DOMEN je narejen z rahlo maceracijo in spontano fermentacijo\, ki zagotavlja čim bolj naravno vino. Ima čudovito limonino zeleno barvo in cvetico\, ki je hkrati nežna in kompleksna\, z aromami bele breskve\, marelice in jabolka\, ki se mešajo s subtilnimi zeliščnimi notami.\nV okusu je vino suho in srednjega telesa\, z osvežilno kislino\, ki odlično uravnoteži njegov sadni značaj. Poleg tega je mogoče zaznati rahel tanin\, ki celotnemu profilu okusa doda kompleksnost in globino. \nRose \nRosé vino je nežna in osvežilna možnost za vinske navdušence. Naš rosé se ponaša s subtilnim\, a mikavnim svetlo roza odtenkom\, ki izžareva nesporno eleganco. Na nosu prevladujejo sveže jagodičevje\, nežne cvetlične note in kanček zelišč\, zaradi česar je odlična izbira za poletni dan. V okusu je to vino brezhibno uravnoteženo\, z rahlim ostankom sladkobe\, ki ga dopolnjuje osvežujoča kislina. Rezultat je zelo pitno\, živahno in elegantno vino\, ki bo zagotovo navdušilo vaše čute. \nMerlot \nponaša se z globoko rubinasto barvo in opazno gostoto\, ki namiguje na njegov zrel in kompleksen značaj. Aroma je intenzivna in kompleksna\, z notami zrelega črnega sadja\, suhih sliv in gozdne podrasti. Subtilne note vanilje\, dima in tobaka v aromi so posledica procesa staranja vina v ožganih hrastovih sodih. Okus je mehak in okrogel\, z dolgim in zadovoljivim zaključkom\, ki ostane v ustih. Verjamemo\, da je najboljša rdeča sorta grozdja za Vipavsko dolino. Merlot je vino\, ki se odlično poda k različnim jedem\, tudi k rdečemu mesu\, divjačini in sirom.
URL:https://rustjevahisa.si/koledar-dogodkov/kruh-in-vino-degustacija-petih-vrhunskih-vin-iz-posestva-ferjancic/
ATTACH;FMTTYPE=image/jpeg:https://rustjevahisa.si/wp-content/uploads/2024/11/AVR_4586.jpg
END:VEVENT
BEGIN:VEVENT
DTSTART;TZID=UTC:20241114T150000
DTEND;TZID=UTC:20241114T170000
DTSTAMP:20260421T033427
CREATED:20241111T083342Z
LAST-MODIFIED:20241111T092119Z
UID:25094587-1731596400-1731603600@rustjevahisa.si
SUMMARY:Afterwork -20 % na pivo in vino\, ob pijači postrežemo prigrizek.
DESCRIPTION:Četrtek\, 14. november\, 15-17h: Afterwork -20 % na pivo in vino\, ob pijači postrežemo prigrizek.
URL:https://rustjevahisa.si/koledar-dogodkov/afterwork-20-na-pivo-in-vino-ob-pijaci-postrezemo-prigrizek/
ATTACH;FMTTYPE=image/jpeg:https://rustjevahisa.si/wp-content/uploads/2024/11/rhk-izvoz-2-25-1-1.jpg
END:VEVENT
BEGIN:VEVENT
DTSTART;TZID=UTC:20241112T190000
DTEND;TZID=UTC:20241112T210000
DTSTAMP:20260421T033427
CREATED:20241111T083240Z
LAST-MODIFIED:20241111T083240Z
UID:25094584-1731438000-1731445200@rustjevahisa.si
SUMMARY:Vokalni večer lokalnih talentov z učenci iz Šole petja Tjaše Fajdiga
DESCRIPTION:Torek\, 12. november\, ob 19h: Vokalni večer lokalnih talentov z učenci iz Šole petja Tjaše Fajdiga. Nastopili bodo mlajši pevci Mikol Kovšča\, Ana Marija Černe\, Žana Matjaž\, Špela Volk.
URL:https://rustjevahisa.si/koledar-dogodkov/vokalni-vecer-lokalnih-talentov-z-ucenci-iz-sole-petja-tjase-fajdiga/
END:VEVENT
BEGIN:VEVENT
DTSTART;TZID=UTC:20241022T190000
DTEND;TZID=UTC:20241022T210000
DTSTAMP:20260421T033427
CREATED:20240930T090959Z
LAST-MODIFIED:20241009T130954Z
UID:25094542-1729623600-1729630800@rustjevahisa.si
SUMMARY:VOKALNI VEČERI LOKALNIH TALENTOV-Ela Fakin in Vid Pregelj
DESCRIPTION:Ela Fakin in Vid Pregelj
URL:https://rustjevahisa.si/koledar-dogodkov/vokalni-veceri-lokalnih-talentov-2/
END:VEVENT
BEGIN:VEVENT
DTSTART;TZID=UTC:20241018T200000
DTEND;TZID=UTC:20241018T220000
DTSTAMP:20260421T033427
CREATED:20240930T090413Z
LAST-MODIFIED:20241018T100443Z
UID:25094533-1729281600-1729288800@rustjevahisa.si
SUMMARY:KRUH IN VINO-Akustični koncert Duo Marc
DESCRIPTION:Vabljeni na čaroben akustični koncert dua Marc\, ki bo potekal v petek\, 18. oktobra\, od 20.00 do 22.00 v Rustjevi hiši v Ajdovščini. Duo Marc\, ki ga sestavljata Snežka in Miloš\, vas bo s svojo nežno glasbo popeljal skozi zlata 80. in 90. leta\, z izborom slovenskih in tujih pop ter rock pesmi. Poleg glasbenega doživetja bodo na voljo tudi okusni pekovski izdelki in osvežilne pijače. \nPridružite se nam na večeru nostalgije\, romantičnih melodij in dobrot!
URL:https://rustjevahisa.si/koledar-dogodkov/kruh-in-vino-3/
ATTACH;FMTTYPE=image/jpeg:https://rustjevahisa.si/wp-content/uploads/2024/09/duo-marc-scaled.jpg
END:VEVENT
BEGIN:VEVENT
DTSTART;TZID=UTC:20241017T150000
DTEND;TZID=UTC:20241017T170000
DTSTAMP:20260421T033427
CREATED:20240930T085330Z
LAST-MODIFIED:20241009T114803Z
UID:25094522-1729177200-1729184400@rustjevahisa.si
SUMMARY:AFTER WORK -20%
DESCRIPTION:AFTER WORK od 15.00. do 17.00 ure\,  –20 % na pivo in vino – velja za vse četrtke do konca leta.
URL:https://rustjevahisa.si/koledar-dogodkov/after-work-20-5/
ATTACH;FMTTYPE=image/jpeg:https://rustjevahisa.si/wp-content/uploads/2024/08/RHK-28.jpg
END:VEVENT
BEGIN:VEVENT
DTSTART;TZID=UTC:20241015T190000
DTEND;TZID=UTC:20241015T210000
DTSTAMP:20260421T033427
CREATED:20240930T090926Z
LAST-MODIFIED:20241009T131049Z
UID:25094540-1729018800-1729026000@rustjevahisa.si
SUMMARY:VOKALNI VEČERI LOKALNIH TALENTOV-Metka Brigita Marc in Ivana Osojnik Kerševan
DESCRIPTION:Metka Brigita Marc in Ivana Osojnik Kerševan
URL:https://rustjevahisa.si/koledar-dogodkov/vokalni-veceri-lokalnih-talentov/
END:VEVENT
BEGIN:VEVENT
DTSTART;TZID=UTC:20241013T090000
DTEND;TZID=UTC:20241013T110000
DTSTAMP:20260421T033427
CREATED:20240930T090027Z
LAST-MODIFIED:20240930T090027Z
UID:25094526-1728810000-1728817200@rustjevahisa.si
SUMMARY:Otroške delavnice
DESCRIPTION:Od 9h do 11h – OTROŠKE DELAVNICE – velja za vse nedelje do konca leta
URL:https://rustjevahisa.si/koledar-dogodkov/otroske-delavnice/
END:VEVENT
BEGIN:VEVENT
DTSTART;TZID=UTC:20241010T150000
DTEND;TZID=UTC:20241010T170000
DTSTAMP:20260421T033427
CREATED:20240930T085038Z
LAST-MODIFIED:20241009T114529Z
UID:25094518-1728572400-1728579600@rustjevahisa.si
SUMMARY:AFTER WORK -20%
DESCRIPTION:AFTER WORK od 15.00. do 17.00 ure\,  –20 % na pivo in vino – velja za vse četrtke do konca leta.
URL:https://rustjevahisa.si/koledar-dogodkov/after-work-20-3/
END:VEVENT
BEGIN:VEVENT
DTSTART;TZID=UTC:20241009T190000
DTEND;TZID=UTC:20241009T220000
DTSTAMP:20260421T033427
CREATED:20240917T144525Z
LAST-MODIFIED:20241002T092540Z
UID:25094502-1728500400-1728511200@rustjevahisa.si
SUMMARY:OKROGLA MIZA
DESCRIPTION:9. 10. – OKROGLA MIZA\, ki jo vodi Artur Lipovž\, gosta dr. Jasna Fakin Bajec iz ZRC SAZU in Jožef Krečič\, raziskovalec zgodovine mlinarstva\, pekarstva in testeninarstva v Ajdovščini in okolici
URL:https://rustjevahisa.si/koledar-dogodkov/okrogla-miza/
END:VEVENT
BEGIN:VEVENT
DTSTART;TZID=UTC:20241006T090000
DTEND;TZID=UTC:20241006T110000
DTSTAMP:20260421T033427
CREATED:20240827T175919Z
LAST-MODIFIED:20240930T085803Z
UID:25094349-1728205200-1728212400@rustjevahisa.si
SUMMARY:Otroške delavnice
DESCRIPTION:Otroške delavnice. Lokacija: pred Rustjevo hišo. Vstop prost.
URL:https://rustjevahisa.si/koledar-dogodkov/otroske-urice/
LOCATION:Pred Rustjevo hišo\, Prešernova ulica 5\, 5270 Ajdovščina\, Slovenia
ATTACH;FMTTYPE=image/jpeg:https://rustjevahisa.si/wp-content/uploads/2024/08/rustjeva-1.jpg
END:VEVENT
BEGIN:VEVENT
DTSTART;TZID=UTC:20241003T143000
DTEND;TZID=UTC:20241003T163000
DTSTAMP:20260421T033427
CREATED:20240930T084854Z
LAST-MODIFIED:20240930T084937Z
UID:25094516-1727965800-1727973000@rustjevahisa.si
SUMMARY:AFTER WORK -20%
DESCRIPTION:AFTER WORK od 14.30. do 16.30. 20 % na vse pijače in prigrizke – velja za vse četrtke do konca leta.
URL:https://rustjevahisa.si/koledar-dogodkov/after-work-20-2/
ATTACH;FMTTYPE=image/jpeg:https://rustjevahisa.si/wp-content/uploads/2024/08/RHK-29.jpg
END:VEVENT
BEGIN:VEVENT
DTSTART;TZID=UTC:20241001T190000
DTEND;TZID=UTC:20241001T210000
DTSTAMP:20260421T033427
CREATED:20240930T090523Z
LAST-MODIFIED:20240930T113514Z
UID:25094535-1727809200-1727816400@rustjevahisa.si
SUMMARY:VOKALNI VEČERI LOKALNIH TALENTOV – Špela Jelerčič Bučinel in Mitja Sajovic
DESCRIPTION:VOKALNI VEČERI LOKALNIH TALENTOV – Špela Jelerčič Bučinel in Mitja Sajovic
URL:https://rustjevahisa.si/koledar-dogodkov/vokalni-veceri-lokalnih-talentov-spela-jelercic-bucinel-in-mitja-sajovic/
ATTACH;FMTTYPE=image/png:https://rustjevahisa.si/wp-content/uploads/2024/09/Vokalni-vecer-1.png
END:VEVENT
END:VCALENDAR