BEGIN:VCALENDAR
VERSION:2.0
PRODID:-//Rustjeva hiša kruha - ECPv6.15.20//NONSGML v1.0//EN
CALSCALE:GREGORIAN
METHOD:PUBLISH
X-WR-CALNAME:Rustjeva hiša kruha
X-ORIGINAL-URL:https://rustjevahisa.si
X-WR-CALDESC:Events for Rustjeva hiša kruha
REFRESH-INTERVAL;VALUE=DURATION:PT1H
X-Robots-Tag:noindex
X-PUBLISHED-TTL:PT1H
BEGIN:VTIMEZONE
TZID:UTC
BEGIN:STANDARD
TZOFFSETFROM:+0000
TZOFFSETTO:+0000
TZNAME:UTC
DTSTART:20240101T000000
END:STANDARD
END:VTIMEZONE
BEGIN:VEVENT
DTSTART;TZID=UTC:20250828T110000
DTEND;TZID=UTC:20250828T200000
DTSTAMP:20260420T200006
CREATED:20250818T075156Z
LAST-MODIFIED:20250818T085250Z
UID:25095607-1756378800-1756411200@rustjevahisa.si
SUMMARY:Adam Šerc peče burgerje
DESCRIPTION:Vabimo vas na dan smash burgerjev v Rustjevi hiši kruha\, kjer nas bo od 11. ure dalje razvajal Masterchef tekmovalec Adam Šerc. Pripravil nam bo vrhunske smash burgerje\, ki so v zadnjih letih obnoreli ljubitelje burgerjev! Burgerje bo – nepričakovano – spajal z vini\, saj pravi\, da k burgerjem ne sodi le pivo\, temveč da lahko nove dimenzije spajanj doživimo prav z vinom! \nAdam Šerc\, tekmovalec Masterchefa\, zase pravi\, da je pravi gurman\, zanesenjak in svetovljan. Idej za kombiniranje okusov mu nikoli ne zmanjka.
URL:https://rustjevahisa.si/koledar-dogodkov/adam-serc-pece-burgerje/
CATEGORIES:Dnevi Kruha in vina
ATTACH;FMTTYPE=image/jpeg:https://rustjevahisa.si/wp-content/uploads/2025/08/28.8.-Adam-Serc-pece-burgerje-1.jpg
END:VEVENT
BEGIN:VEVENT
DTSTART;TZID=UTC:20250826T200000
DTEND;TZID=UTC:20250826T210000
DTSTAMP:20260420T200006
CREATED:20250818T074948Z
LAST-MODIFIED:20250826T121245Z
UID:25095602-1756238400-1756242000@rustjevahisa.si
SUMMARY:Prestavljeno na 24. 9. - Pogovorni večer - Rustja in Pilon: konkurenta ali zaveznika?
DESCRIPTION:Zaradi bolezni je dogodek prestavljen na 24. 9. ob 20h. \nVabljeni na pogovorni večer\, kjer bomo skupaj z Jožetom Krečičem odstirali tančice preteklosti Rustjeve in  tudi sosednje Pilonove pekarne. Obe pekarni sta vrsto let uspešno delali druga ob drugi – kljub takrat težkim časom. Kako jima je to uspelo? \nDa si lahko odgovorimo na to vprašanje\, bomo skozi pogovorni večer odkrili tudi\, kdo je bil Casagrande in kako je Pilon pravzaprav prišel do svoje pekarne? Kdo je bil Rustja in od kod je prišel? Koliko in kaj pravzaprav vemo o njem? Sta bila Rustja in Pilon sploh konkurenta ali pa morda zaveznika?
URL:https://rustjevahisa.si/koledar-dogodkov/pogovorni-vecer-rustja-in-pilon-konkurenta-ali-zaveznika/
CATEGORIES:Dnevi Kruha in vina
ATTACH;FMTTYPE=image/jpeg:https://rustjevahisa.si/wp-content/uploads/2025/08/26.8.-Pogovorni-vecer-3.jpg
END:VEVENT
BEGIN:VEVENT
DTSTART;VALUE=DATE:20250826
DTEND;VALUE=DATE:20250908
DTSTAMP:20260420T200006
CREATED:20250815T064229Z
LAST-MODIFIED:20250826T121021Z
UID:25095593-1756166400-1757289599@rustjevahisa.si
SUMMARY:Dnevi Kruha in vina
DESCRIPTION:Dnevi kruha in vina v Rustjevi hiši kruha \nRustjeva hiša kruha praznuje prvo obletnico otvoritve – in to v velikem slogu!\nOd 26. avgusta do 7. septembra vas vabimo na Dneve kruha in vina\, ki bodo postregli s posebno ponudbo\, pestro kulinarično izbiro in vrsto zanimivih dogodkov. \nV tem času vas čakajo: \nFestivalski dan KRUH IN VINO – 30. avgusta bo v središču Ajdovščine potekal edinstven kulinarični dogodek\, ki združuje hrustljav sveže pečen kruh\, vrhunska vina\, izbrane sire\, mesnine in druge slane in sladke dobrote. Poskrbljeno bo za glasbo in posebno ponudbo na stojnicah\, pa tudi za otroke z delavnico peke kruha. \nVrhunski glasbeni večeri – med prazničnimi dnevi bodo Rustjevo hišo kruha napolnili različni glasbeni žanri in vrhunski izvajalci: od Slavka Ivančiča do Rudija Bučarja\, od DJ Chumma preko pevcev iz šole Tjaše Fajdiga do Matije Bolčina in Mare Rogelja! \nPosebna ponudba – paštakreme in sladke žemlje po ugodnih cenah ter novi kruhi  posebnih okusov (s sušenimi paradižniki\, olivami\, semolo …). \nTematski večeri in delavnice – med drugim pogovorni večer z Jožefom Krečičem\, vodeni ogledi Rustjeve pekarne\, kulinarični dnevi z burgerji\, picami in aperolom ter latino ritmi. \nCeloten program obljublja okusne grižljaje\, odlično vino\, dobro glasbo in prijetno druženje – toplo vabljeni\, da si ogledate vse dogodke! Vstop je prost. \n26. 8. ob 20h: Pogovorni večer – Rustja in Pilon: konkurenta ali zaveznika? > Zaradi bolezni je dogodek prestavljen na 24. 9. ob 20h. \n28. 8. ob 11h: Adam Šerc peče burgerje \n29. 8. ob 14:30: Vodeni ogled Rustjeve pekarne \n29. 8. ob 18h: Aperol night & DJ Chumma \n30. 8. ob 13h: Voden ogled Rustjeve pekarne \n30. 8. ob 16h: Delavnica peke kruha za otroke z društvom Trillek \n30. 8. ob 18h: Festivalski dogodek Kruh in vino \n30. 8. ob 18h: Glasbena spremljava dogodka Kruh in vino: Matija Bolčina in Mara Rogelja \n30. 8. ob 20h: Slavko Ivančič \n31. 8. ob 19:30h: PubQuiz z Juretom Gantarjem \n2. 9. ob 11h: Porka Eva peče pice \n2. 9. ob 19h: Premiera vokalnih večerov s pevci iz šole petja Tjaše Fajdiga \n5. 9. ob 18h: Aperol night & DJ Chumma \n6. 9. ob 20h: Rudi Bučar
URL:https://rustjevahisa.si/koledar-dogodkov/dnevi-kruha-in-vina/
ATTACH;FMTTYPE=image/jpeg:https://rustjevahisa.si/wp-content/uploads/2025/08/lezeca-FB-objava-2024.jpg
END:VEVENT
BEGIN:VEVENT
DTSTART;TZID=UTC:20250824T090000
DTEND;TZID=UTC:20250824T110000
DTSTAMP:20260420T200006
CREATED:20250619T102059Z
LAST-MODIFIED:20250619T102059Z
UID:25095567-1756026000-1756033200@rustjevahisa.si
SUMMARY:Otroške urice
DESCRIPTION:Vsako nedeljo od 9. do 11. ure vabimo starše in njihove otroke na otroške delavnice v Rustjevo hišo kruha. Otroci skupaj z animatorko ustvarjajo različne izdelke\, starši pa lahko medtem v miru popijejo kavico in se posladkajo s sladko žemljo.
URL:https://rustjevahisa.si/koledar-dogodkov/otroske-urice-35/
ATTACH;FMTTYPE=image/jpeg:https://rustjevahisa.si/wp-content/uploads/2024/12/IMG_9996-scaled.jpeg
END:VEVENT
BEGIN:VEVENT
DTSTART;TZID=UTC:20250822T210000
DTEND;TZID=UTC:20250822T230000
DTSTAMP:20260420T200006
CREATED:20250721T075201Z
LAST-MODIFIED:20250721T075201Z
UID:25095583-1755896400-1755903600@rustjevahisa.si
SUMMARY:Glasbeni večer: Špela Velikanje
DESCRIPTION:Špela Velikanje je pevka in tekstopiska iz Idrije. Že od nekdaj se zanima za glasbo\, z nastopom na Emi freš leta 2022 pa se je s petjem začela ukvarjati resneje. Od takrat naprej ustvarjam avtorske pesmi in se pojavlja na različnih nastopih tako samostojno kot gostja drugim izvajalcem. \nGLASBENI VRHUNCI\n2022 – Nastop v finalu Eme freš\n2023 –  Prvi avtorski singl City of flowers\nNastop s skupino Odprava zelenega zmaja v Ajdovščini (Bar Hiša mladih)\n2024 – Drugi avtorski singl Na konec sveta
URL:https://rustjevahisa.si/koledar-dogodkov/glasbeni-vecer-spela-velikanje/
ATTACH;FMTTYPE=image/jpeg:https://rustjevahisa.si/wp-content/uploads/2025/07/1000002805-scaled.jpg
END:VEVENT
BEGIN:VEVENT
DTSTART;TZID=UTC:20250821T150000
DTEND;TZID=UTC:20250821T170000
DTSTAMP:20260420T200006
CREATED:20250619T102417Z
LAST-MODIFIED:20250619T102417Z
UID:25095575-1755788400-1755795600@rustjevahisa.si
SUMMARY:AFTER WORK -20 %
DESCRIPTION:-20 % na pivo in vino\, ob pijači postrežemo prigrizek. \nOb četrtkih vas med tretjo in peto popoldne za prijetno sprostitev po službi razvajamo z dobrim pivom ali izbranimi vini\, da pa bo druženje po službi še boljše\, vam ob pijači postrežemo tudi prigrizek.
URL:https://rustjevahisa.si/koledar-dogodkov/after-work-20-35/
ATTACH;FMTTYPE=image/jpeg:https://rustjevahisa.si/wp-content/uploads/2024/08/RHK-32.jpg
END:VEVENT
BEGIN:VEVENT
DTSTART;TZID=UTC:20250830T180000
DTEND;TZID=UTC:20250830T180000
DTSTAMP:20260420T200006
CREATED:20250818T085939Z
LAST-MODIFIED:20250818T090031Z
UID:25095628-1756576800-1756576800@rustjevahisa.si
SUMMARY:Kruh in vino - in vse\, kar paše zraven
DESCRIPTION:V središču Ajdovščine vas čaka edinstven dogodek\, ki združuje hrustljav sveže pečen kruh z vrhunsko vinsko kapljico ter izbranimi siri in mesninami. \nNa kulinaričnih stojnicah boste lahko okušali:\n🍇 vina Ferjančič\, Štokelj\, Rouna\, Lisjak\n🥩 mesnine Mesnine ILC\n🧀 sire Golden Ring\n🥨 kruh in slane prigrizke Rustjeve hiše kruha \nNašlo se bo tudi kaj sladkega! \nDogodek bo spremljala glasba Matije Bolčine & Mare Rogelja\, ki bo poskrbela za sproščeno vzdušje. V večernih urah pa nas čaka koncert Slavka Ivančiča! \n 
URL:https://rustjevahisa.si/koledar-dogodkov/kruh-in-vino-in-vse-kar-pase-zraven/
CATEGORIES:Dnevi Kruha in vina
ATTACH;FMTTYPE=image/jpeg:https://rustjevahisa.si/wp-content/uploads/2025/08/IG-objava-dogodek_1080x1080px-scaled.jpg
END:VEVENT
BEGIN:VEVENT
DTSTART;TZID=UTC:20250817T090000
DTEND;TZID=UTC:20250817T110000
DTSTAMP:20260420T200006
CREATED:20250619T101915Z
LAST-MODIFIED:20250619T101915Z
UID:25095564-1755421200-1755428400@rustjevahisa.si
SUMMARY:Otroške urice
DESCRIPTION:Vsako nedeljo od 9. do 11. ure vabimo starše in njihove otroke na otroške delavnice v Rustjevo hišo kruha. Otroci skupaj z animatorko ustvarjajo različne izdelke\, starši pa lahko medtem v miru popijejo kavico in se posladkajo s sladko žemljo.
URL:https://rustjevahisa.si/koledar-dogodkov/otroske-urice-34/
ATTACH;FMTTYPE=image/jpeg:https://rustjevahisa.si/wp-content/uploads/2024/12/T_V_3028-scaled.jpeg
END:VEVENT
BEGIN:VEVENT
DTSTART;TZID=UTC:20250814T150000
DTEND;TZID=UTC:20250814T170000
DTSTAMP:20260420T200006
CREATED:20250619T102338Z
LAST-MODIFIED:20250619T102338Z
UID:25095573-1755183600-1755190800@rustjevahisa.si
SUMMARY:AFTER WORK -20 %
DESCRIPTION:-20 % na pivo in vino\, ob pijači postrežemo prigrizek. \nOb četrtkih vas med tretjo in peto popoldne za prijetno sprostitev po službi razvajamo z dobrim pivom ali izbranimi vini\, da pa bodruženje po službi še boljše\, vam ob pijači postrežemo tudi prigrizek.
URL:https://rustjevahisa.si/koledar-dogodkov/after-work-20-34/
ATTACH;FMTTYPE=image/jpeg:https://rustjevahisa.si/wp-content/uploads/2024/08/RHK-29.jpg
END:VEVENT
BEGIN:VEVENT
DTSTART;TZID=UTC:20250810T090000
DTEND;TZID=UTC:20250810T110000
DTSTAMP:20260420T200006
CREATED:20250619T101836Z
LAST-MODIFIED:20250619T101836Z
UID:25095562-1754816400-1754823600@rustjevahisa.si
SUMMARY:Otroške urice
DESCRIPTION:Vsako nedeljo od 9. do 11. ure vabimo starše in njihove otroke na otroške delavnice v Rustjevo hišo kruha. Otroci skupaj z animatorko ustvarjajo različne izdelke\, starši pa lahko medtem v miru popijejo kavico in se posladkajo s sladko žemljo.
URL:https://rustjevahisa.si/koledar-dogodkov/otroske-urice-33/
ATTACH;FMTTYPE=image/jpeg:https://rustjevahisa.si/wp-content/uploads/2024/12/T_V_2956-scaled.jpeg
END:VEVENT
BEGIN:VEVENT
DTSTART;TZID=UTC:20250808T210000
DTEND;TZID=UTC:20250808T230000
DTSTAMP:20260420T200006
CREATED:20250619T102746Z
LAST-MODIFIED:20250731T114557Z
UID:25095579-1754686800-1754694000@rustjevahisa.si
SUMMARY:SPREMEMBA DATUMA: Akustični glasbeni večer: Tina Bolko in Matija Marc
DESCRIPTION:Duo Tina Bolko (vokal) in Matija Marc (kitara) je svež glasbeni tandem\, ki deluje od preteklega leta. Njuno ustvarjanje temelji na edinstvenih priredbah priljubljenih slovenskih popevk ter znanih pop in jazz skladb\, ki jih obarvata z osebnim izrazom in čutno interpretacijo. Združujeta prefinjen vokal z virtuozno igro\, kar poslušalcem ponuja intimen\, a hkrati bogat glasbeni doživljaj. \nDogodek se prestavi iz sobote\, 9. avgusta\, na petek\, 8. avgust.
URL:https://rustjevahisa.si/koledar-dogodkov/akusticni-glasbeni-vecer-tina-bolko-in-matija-marc-2/
ATTACH;FMTTYPE=image/jpeg:https://rustjevahisa.si/wp-content/uploads/2025/01/Tina-Bolko-scaled.jpg
END:VEVENT
BEGIN:VEVENT
DTSTART;TZID=UTC:20250807T150000
DTEND;TZID=UTC:20250807T170000
DTSTAMP:20260420T200006
CREATED:20250619T102254Z
LAST-MODIFIED:20250619T102254Z
UID:25095571-1754578800-1754586000@rustjevahisa.si
SUMMARY:AFTER WORK -20%
DESCRIPTION:-20 % na pivo in vino\, ob pijači postrežemo prigrizek. \nOb četrtkih vas med tretjo in peto popoldne za prijetno sprostitev po službi razvajamo z dobrim pivom ali izbranimi vini\, da pa bodruženje po službi še boljše\, vam ob pijači postrežemo tudi prigrizek.
URL:https://rustjevahisa.si/koledar-dogodkov/after-work-20-33/
ATTACH;FMTTYPE=image/jpeg:https://rustjevahisa.si/wp-content/uploads/2024/08/RHK-1-1.jpg
END:VEVENT
BEGIN:VEVENT
DTSTART;TZID=UTC:20250803T190000
DTEND;TZID=UTC:20250803T220000
DTSTAMP:20260420T200006
CREATED:20250731T054407Z
LAST-MODIFIED:20250731T054407Z
UID:25095588-1754247600-1754258400@rustjevahisa.si
SUMMARY:POLETNI SPEKTAKEL: Niko Bajc z ekipo in Lea Bajc na svili
DESCRIPTION:Na glasbeno plesnem dogodku boste lahko prisluhnili Lizi Skrt na vokalu\, Franku Bajcu na tolkalih\, Oskarju Ličnu na violini in basu\, Otu Benku na basu in saksofonu ter Samu Turku na kitari in ogrlicah. Poleg kantavtorske glasbe bodo zaigrali tudi nekaj znanih priredb in ob tem boste lahko uživali nad plesnimi elementi Lee Bajc.
URL:https://rustjevahisa.si/koledar-dogodkov/poletni-spektakel-niko-bajc-z-ekipo-in-lea-bajc-na-svili/
ATTACH;FMTTYPE=image/jpeg:https://rustjevahisa.si/wp-content/uploads/2025/07/Poletni-spektakel-Niko-story_2.jpg
END:VEVENT
BEGIN:VEVENT
DTSTART;TZID=UTC:20250803T090000
DTEND;TZID=UTC:20250803T110000
DTSTAMP:20260420T200006
CREATED:20250619T101741Z
LAST-MODIFIED:20250619T101741Z
UID:25095560-1754211600-1754218800@rustjevahisa.si
SUMMARY:Otroške urice
DESCRIPTION:Vsako nedeljo od 9. do 11. ure vabimo starše in njihove otroke na otroške delavnice v Rustjevo hišo kruha. Otroci skupaj z animatorko ustvarjajo različne izdelke\, starši pa lahko medtem v miru popijejo kavico in se posladkajo s sladko žemljo.
URL:https://rustjevahisa.si/koledar-dogodkov/otroske-urice-32/
ATTACH;FMTTYPE=image/jpeg:https://rustjevahisa.si/wp-content/uploads/2024/12/IMG_0001-scaled.jpeg
END:VEVENT
BEGIN:VEVENT
DTSTART;TZID=UTC:20250731T150000
DTEND;TZID=UTC:20250731T170000
DTSTAMP:20260420T200006
CREATED:20250619T075757Z
LAST-MODIFIED:20250619T075757Z
UID:25095552-1753974000-1753981200@rustjevahisa.si
SUMMARY:AFTER WORK – 20 %
DESCRIPTION:-20 % na pivo in vino\, ob pijači postrežemo prigrizek. \nOb četrtkih vas med tretjo in peto popoldne za prijetno sprostitev po službi razvajamo z dobrim pivom ali izbranimi vini\, da pa bo druženje po službi še boljše\, vam ob pijači postrežemo tudi prigrizek.
URL:https://rustjevahisa.si/koledar-dogodkov/after-work-20-32/
ATTACH;FMTTYPE=image/jpeg:https://rustjevahisa.si/wp-content/uploads/2024/08/RHK-32.jpg
END:VEVENT
BEGIN:VEVENT
DTSTART;TZID=UTC:20250727T090000
DTEND;TZID=UTC:20250727T110000
DTSTAMP:20260420T200006
CREATED:20250619T101614Z
LAST-MODIFIED:20250619T101614Z
UID:25095558-1753606800-1753614000@rustjevahisa.si
SUMMARY:Otroške urice
DESCRIPTION:Vsako nedeljo od 9. do 11. ure vabimo starše in njihove otroke na otroške delavnice v Rustjevo hišo kruha. Otroci skupaj z animatorko ustvarjajo različne izdelke\, starši pa lahko medtem v miru popijejo kavico in se posladkajo s sladko žemljo.
URL:https://rustjevahisa.si/koledar-dogodkov/otroske-urice-31/
ATTACH;FMTTYPE=image/jpeg:https://rustjevahisa.si/wp-content/uploads/2024/12/T_V_2956-scaled.jpeg
END:VEVENT
BEGIN:VEVENT
DTSTART;TZID=UTC:20250724T150000
DTEND;TZID=UTC:20250724T170000
DTSTAMP:20260420T200006
CREATED:20250619T075655Z
LAST-MODIFIED:20250619T075655Z
UID:25095550-1753369200-1753376400@rustjevahisa.si
SUMMARY:AFTER WORK – 20 %
DESCRIPTION:-20 % na pivo in vino\, ob pijači postrežemo prigrizek. \nOb četrtkih vas med tretjo in peto popoldne za prijetnos prostitev po službi razvajamo z dobrim pivom ali izbranimi vini\, da pa bo druženje po službi še boljše\, vam ob pijači postrežemo tudi prigrizek.
URL:https://rustjevahisa.si/koledar-dogodkov/after-work-20-31/
ATTACH;FMTTYPE=image/jpeg:https://rustjevahisa.si/wp-content/uploads/2024/11/rhk-izvoz-2-25-1-1.jpg
END:VEVENT
BEGIN:VEVENT
DTSTART;TZID=UTC:20250720T090000
DTEND;TZID=UTC:20250720T110000
DTSTAMP:20260420T200006
CREATED:20250619T101503Z
LAST-MODIFIED:20250619T101503Z
UID:25095556-1753002000-1753009200@rustjevahisa.si
SUMMARY:Otroške urice
DESCRIPTION:Vsako nedeljo od 9. do 11. ure vabimo starše in njihove otroke na otroške delavnice v Rustjevo hišo kruha. Otroci skupaj z animatorko ustvarjajo različne izdelke\, starši pa lahko medtem v miru popijejo kavico in se posladkajo s sladko žemljo.
URL:https://rustjevahisa.si/koledar-dogodkov/otroske-urice-30/
ATTACH;FMTTYPE=image/jpeg:https://rustjevahisa.si/wp-content/uploads/2024/12/IMG_0001-scaled.jpeg
END:VEVENT
BEGIN:VEVENT
DTSTART;TZID=UTC:20250717T150000
DTEND;TZID=UTC:20250717T170000
DTSTAMP:20260420T200006
CREATED:20250619T075602Z
LAST-MODIFIED:20250619T075602Z
UID:25095548-1752764400-1752771600@rustjevahisa.si
SUMMARY:AFTER WORK – 20 %
DESCRIPTION:-20 % na pivo in vino\, ob pijači postrežemo prigrizek. \nOb četrtkih vas med tretjo in peto popoldne za prijetno sprostitev po službi razvajamo z dobrim pivom ali izbranimi vini\, da pa bo druženje po službi še boljše\, vam ob pijači postrežemo tudi prigrizek.
URL:https://rustjevahisa.si/koledar-dogodkov/after-work-20-30/
ATTACH;FMTTYPE=image/jpeg:https://rustjevahisa.si/wp-content/uploads/2024/08/RHK-1-1.jpg
END:VEVENT
BEGIN:VEVENT
DTSTART;TZID=UTC:20250713T090000
DTEND;TZID=UTC:20250713T110000
DTSTAMP:20260420T200006
CREATED:20250619T101359Z
LAST-MODIFIED:20250619T101359Z
UID:25095554-1752397200-1752404400@rustjevahisa.si
SUMMARY:Otroške urice
DESCRIPTION:Vsako nedeljo od 9. do 11. ure vabimo starše in njihove otroke na otroške delavnice v Rustjevo hišo kruha. Otroci skupaj z animatorko ustvarjajo različne izdelke\, starši pa lahko medtem v miru popijejo kavico in se posladkajo s sladko žemljo.
URL:https://rustjevahisa.si/koledar-dogodkov/otroske-urice-29/
ATTACH;FMTTYPE=image/jpeg:https://rustjevahisa.si/wp-content/uploads/2024/12/IMG_9996-scaled.jpeg
END:VEVENT
BEGIN:VEVENT
DTSTART;TZID=UTC:20250710T150000
DTEND;TZID=UTC:20250710T170000
DTSTAMP:20260420T200006
CREATED:20250619T075513Z
LAST-MODIFIED:20250619T075513Z
UID:25095546-1752159600-1752166800@rustjevahisa.si
SUMMARY:AFTER WORK – 20 %
DESCRIPTION:-20 % na pivo in vino\, ob pijači postrežemo prigrizek. \nOb četrtkih vas med tretjo in peto popoldne za prijetno sprostitev po službi razvajamo z dobrim pivom ali izbranimi vini\, da pa bo druženje po službi še boljše\, vam ob pijači postrežemo tudi prigrizek.
URL:https://rustjevahisa.si/koledar-dogodkov/after-work-20-29/
ATTACH;FMTTYPE=image/jpeg:https://rustjevahisa.si/wp-content/uploads/2024/08/RHK-32.jpg
END:VEVENT
BEGIN:VEVENT
DTSTART;TZID=UTC:20250706T090000
DTEND;TZID=UTC:20250706T110000
DTSTAMP:20260420T200006
CREATED:20250619T075352Z
LAST-MODIFIED:20250619T075352Z
UID:25095544-1751792400-1751799600@rustjevahisa.si
SUMMARY:Otroške urice
DESCRIPTION:Vsako nedeljo od 9. do 11. ure vabimo starše in njihove otroke na otroške delavnice v Rustjevo hišo kruha. Otroci skupaj z animatorko ustvarjajo različne izdelke\, starši pa lahko medtem v miru popijejo kavico in se posladkajo s sladko žemljo.
URL:https://rustjevahisa.si/koledar-dogodkov/otroske-urice-28/
ATTACH;FMTTYPE=image/jpeg:https://rustjevahisa.si/wp-content/uploads/2024/11/Kopija-dokumenta-T_V_3028-1-1.jpeg
END:VEVENT
BEGIN:VEVENT
DTSTART;TZID=UTC:20250704T203000
DTEND;TZID=UTC:20250704T230000
DTSTAMP:20260420T200006
CREATED:20250619T075117Z
LAST-MODIFIED:20250619T101936Z
UID:25095539-1751661000-1751670000@rustjevahisa.si
SUMMARY:Kruh in vino: Vina Marc ob glasbeni spremljavi Hane Jerončič. Cena: 20€
DESCRIPTION:Vabljeni na nepozaben večer v družbi vrhunskega vina\, kjer se bo v petek\, 4. julija\, od 20.30. do 23. ure v Rustjevi hiši odvijal dogodek “Kruh in vino”. Vinska klet Marc bo predstavila svoja izbrana vina\, ki jih bodo spremljali odlični pekovski izdelki. Večer bo dopolnil glasbeni nastop Hane Jerončič. \nCena degustacije: 20 EUR (vključuje 5 vinskih vzorcev in pekovske izdelke) \nO kmetiji Marc: Družinska kmetija Marc ima svoje vinograde na sončnih legah. Ponosni so na svojo tradicijo in kakovost vin\, posebno zelèna\, ter na številna priznanja na ocenjevanjih doma in v tujini. Posebno mesto v kleti namenjajo vinjaku\, ki že od leta 2002 zori v hrastovi sodčkih. Najavljenim gostom nudijo voden ogled kleti in degustacijo vrhunskih in kakovostnih vin v več kot sto let stari kamniti hiši\, obdani s trsi in čudovitim razgledom na dolino. Sprejmejo lahko 50 gostov. Gostom postrežejo z doma pridelanimi suhomesnatimi izdelki\, na voljo so tudi marmelade in likerji iz domačega sadja. \n  \nHana Jerončič in Simon Mervič sestavljata akustični duo vokala in kitare. Bila sta člana večih zasedb\, skupaj pa ustvarjata dobro leto. Preigravata priredbe različnih glasbenih skupin in žanrov ter Hanino avtorsko glasbo. \n \nAvtor fotografije: Samo Trebižan
URL:https://rustjevahisa.si/koledar-dogodkov/kruh-in-vino-vina-marc-ob-glasbeni-spremljavi-hane-jeroncic/
ATTACH;FMTTYPE=image/jpeg:https://rustjevahisa.si/wp-content/uploads/2025/01/marc-vino-2.jpg
END:VEVENT
BEGIN:VEVENT
DTSTART;TZID=UTC:20250703T150000
DTEND;TZID=UTC:20250703T170000
DTSTAMP:20260420T200006
CREATED:20250619T075238Z
LAST-MODIFIED:20250619T075238Z
UID:25095542-1751554800-1751562000@rustjevahisa.si
SUMMARY:AFTER WORK – 20 %
DESCRIPTION:-20 % na pivo in vino\, ob pijači postrežemo prigrizek. \nOb četrtkih vas med tretjo in peto popoldne za prijetno sprostitev po službi razvajamo z dobrim pivom ali izbranimi vini\, da pa bo druženje po službi še boljše\, vam ob pijači postrežemo tudi prigrizek.
URL:https://rustjevahisa.si/koledar-dogodkov/after-work-20-20/
ATTACH;FMTTYPE=image/jpeg:https://rustjevahisa.si/wp-content/uploads/2024/08/RHK-29.jpg
END:VEVENT
BEGIN:VEVENT
DTSTART;TZID=UTC:20250629T090000
DTEND;TZID=UTC:20250629T110000
DTSTAMP:20260420T200006
CREATED:20250529T111848Z
LAST-MODIFIED:20250529T111848Z
UID:25095517-1751187600-1751194800@rustjevahisa.si
SUMMARY:Otroške urice
DESCRIPTION:Vsako nedeljo od 9. do 11. ure vabimo starše innjihove otroke na otroške delavnice v Rustjevo hišo kruha. Otroci skupaj zanimatorko ustvarjajo različne izdelke\, starši pa lahko medtem v miru popijejokavico in se posladkajo s sladko žemljo.
URL:https://rustjevahisa.si/koledar-dogodkov/otroske-urice-27/
ATTACH;FMTTYPE=image/jpeg:https://rustjevahisa.si/wp-content/uploads/2024/12/T_V_3028-scaled.jpeg
END:VEVENT
BEGIN:VEVENT
DTSTART;TZID=UTC:20250627T210000
DTEND;TZID=UTC:20250627T230000
DTSTAMP:20260420T200006
CREATED:20250430T050313Z
LAST-MODIFIED:20250430T050313Z
UID:25095498-1751058000-1751065200@rustjevahisa.si
SUMMARY:Glasbeni večer: Hill Blues Band
DESCRIPTION:Herman Franca – Hill nastopa in preigrava različno blues glasbo\, predvsem Delta Blues pionirjev tega žanra.\nNa bass kitari Uroš Trebižan – Urko\, tudi član skupine Avtomobili\, obogati te skladbe z edinstvenim pristopom.\nNejc Franca – Neco (tudi član skupine MART) pa na bobnih poskrbi za dobro celoto.
URL:https://rustjevahisa.si/koledar-dogodkov/glasbeni-vecer-hill-blues-band/
ATTACH;FMTTYPE=image/jpeg:https://rustjevahisa.si/wp-content/uploads/2025/04/HillBlues-1-1.jpg
END:VEVENT
BEGIN:VEVENT
DTSTART;TZID=UTC:20250626T150000
DTEND;TZID=UTC:20250626T170000
DTSTAMP:20260420T200006
CREATED:20250305T071140Z
LAST-MODIFIED:20250305T071140Z
UID:25095326-1750950000-1750957200@rustjevahisa.si
SUMMARY:AFTER WORK -20 %
DESCRIPTION:-20 % na pivo in vino\, ob pijači postrežemo prigrizek. \nOb četrtkih vas med tretjo in peto popoldne za prijetnosprostitev po službi razvajamo z dobrim pivom ali izbranimi vini\, da pa bodruženje po službi še boljše\, vam ob pijači postrežemo tudi prigrizek.
URL:https://rustjevahisa.si/koledar-dogodkov/after-work-20-28/
ATTACH;FMTTYPE=image/jpeg:https://rustjevahisa.si/wp-content/uploads/2024/08/RHK-34-1.jpg
END:VEVENT
BEGIN:VEVENT
DTSTART;TZID=UTC:20250622T090000
DTEND;TZID=UTC:20250622T110000
DTSTAMP:20260420T200006
CREATED:20250529T111759Z
LAST-MODIFIED:20250529T111759Z
UID:25095515-1750582800-1750590000@rustjevahisa.si
SUMMARY:Otroške urice
DESCRIPTION:Vsako nedeljo od 9. do 11. ure vabimo starše innjihove otroke na otroške delavnice v Rustjevo hišo kruha. Otroci skupaj zanimatorko ustvarjajo različne izdelke\, starši pa lahko medtem v miru popijejokavico in se posladkajo s sladko žemljo.
URL:https://rustjevahisa.si/koledar-dogodkov/otroske-urice-18/
ATTACH;FMTTYPE=image/jpeg:https://rustjevahisa.si/wp-content/uploads/2024/12/T_V_2956-scaled.jpeg
END:VEVENT
BEGIN:VEVENT
DTSTART;TZID=UTC:20250619T150000
DTEND;TZID=UTC:20250619T170000
DTSTAMP:20260420T200006
CREATED:20250305T071057Z
LAST-MODIFIED:20250305T071057Z
UID:25095324-1750345200-1750352400@rustjevahisa.si
SUMMARY:AFTER WORK - 20 %
DESCRIPTION:-20 % na pivo in vino\, ob pijači postrežemo prigrizek. \nOb četrtkih vas med tretjo in peto popoldne za prijetnosprostitev po službi razvajamo z dobrim pivom ali izbranimi vini\, da pa bodruženje po službi še boljše\, vam ob pijači postrežemo tudi prigrizek.
URL:https://rustjevahisa.si/koledar-dogodkov/after-work-20-27/
ATTACH;FMTTYPE=image/jpeg:https://rustjevahisa.si/wp-content/uploads/2024/08/RHK-29.jpg
END:VEVENT
BEGIN:VEVENT
DTSTART;TZID=UTC:20250618T200000
DTEND;TZID=UTC:20250618T210000
DTSTAMP:20260420T200006
CREATED:20250530T060636Z
LAST-MODIFIED:20250530T060636Z
UID:25095522-1750276800-1750280400@rustjevahisa.si
SUMMARY:»Belega kruha ne sme nikoli zmanjkati!« – pogovorni večer o kruhu v Vipavski dolini med revščino in izobiljem
DESCRIPTION:Peka kruha v domači kuhinji vedno pričara toplino. Ni lepšega trenutka\, ko se iz pečice razširi omamen vonj po toplem\, sveže pečenem kruhu. Ta vonj lahko v sebi nosi lepe ali težke spomine. Zastarejše generacije kruh pomeni bogastvo\, svetinjo\, celo nebesa. Nekoč so ljudje hrepeneli po belem kruhu\, medtem ko je bil po vipavskih domovih na mizi »tršen« – koruzni kruh ali pogača. Danes živimo v času izobilja\, ko lahko izbiramo med neštetimi vrstami kruha in pekovskih izdelkov. Kaj vse se je v tem času spremenilo – in zakaj? \nNa pogovornem večeru bomo spregovorili o zgodovini peke kruha na Vipavskem\, o šegah in navadah\, ki so spremljale kruh skozi generacije\, ter o tem\, kako lahko kruh uporabimo kot učni vir – izhodišče za pogovor o spoštovanju\, solidarnosti\, večkulturnosti\, migracijah\, pa tudi o pasteh sodobnega potrošništva in pomenu iskanja edinstvenosti v vsakdanjem življenju. \nVečer bomo zaključili z ogledom dokumentarnega filma Belega kruha ne sme nikoli zmanjkati (Občina Ajdovščina\, 2022)\, posnetega v Rustjevi hiši tik pred njeno obnovo. \nSodelujejo: Melita Lemut Bajec (UL Pedagoška fakulteta); Andreja Margon (OŠ Šturje Ajdovščina); Jernej Murn (Mlinotest d. d.\, Rustjeva hiša kruha Ajdovščina) v pogovoru z Jasno Fakin Bajec (ZRC SAZU in UNG Fakulteta za humanistiko).
URL:https://rustjevahisa.si/koledar-dogodkov/belega-kruha-ne-sme-nikoli-zmanjkati-pogovorni-vecer-o-kruhu-v-vipavski-dolini-med-revscino-in-izobiljem/
ATTACH;FMTTYPE=image/jpeg:https://rustjevahisa.si/wp-content/uploads/2025/05/pogovorni-vecer-belega-kruha-ne-sme-nikoli-zmanjkati-1-scaled.jpg
END:VEVENT
END:VCALENDAR